BEGIN:VCALENDAR
VERSION:2.0
PRODID:-//wp-events-plugin.com//7.2.3.1//EN
TZID:America/Los_Angeles
X-WR-TIMEZONE:America/Los_Angeles
BEGIN:VEVENT
UID:2534@stmoside.org
DTSTART;TZID=America/Los_Angeles:20240602T080000
DTEND;TZID=America/Los_Angeles:20240602T140000
DTSTAMP:20240526T004522Z
URL:https://stmoside.org/events/american-red-cross-blood-drive/
SUMMARY:American Red Cross Blood Drive
DESCRIPTION:Parish Center Lower Level\nSign up on the Plaza after Mass May 
 18-19 and May 25-26 or \nTo schedule an appointment online Use Sponsor Cod
 e:   StThomasMore   \nClick here to make an Appointment\n&nbsp\;\nStre
 amline your donation experience and save up to 15 minutes by visiting\nRap
 id Pass to complete your pre-donation reading and health\nhistory question
 s on the day of your appointment.
ATTACH;FMTTYPE=image/jpeg:https://stmoside.org/wp-content/uploads/2024/05/
 Blood-Drive-Image.jpg
CATEGORIES:Social Ministry
LOCATION:Parish Center (Lower Level) at St. Thomas More\, 1450 South Melros
 e Drive\, Oceanside\, CA\, 92056\, United States
GEO:33.171421;-117.25057200000003
X-APPLE-STRUCTURED-LOCATION;VALUE=URI;X-ADDRESS=1450 South Melrose Drive\, 
 Oceanside\, CA\, 92056\, United States;X-APPLE-RADIUS=100;X-TITLE=Parish C
 enter (Lower Level) at St. Thomas More:geo:33.171421,-117.25057200000003
END:VEVENT
BEGIN:VTIMEZONE
TZID:America/Los_Angeles
X-LIC-LOCATION:America/Los_Angeles
BEGIN:DAYLIGHT
DTSTART:20240310T030000
TZOFFSETFROM:-0800
TZOFFSETTO:-0700
TZNAME:PDT
END:DAYLIGHT
END:VTIMEZONE
END:VCALENDAR