BEGIN:VCALENDAR
VERSION:2.0
PRODID:-//wp-events-plugin.com//7.2.3.1//EN
TZID:America/Los_Angeles
X-WR-TIMEZONE:America/Los_Angeles
BEGIN:VEVENT
UID:160@stmoside.org
DTSTART;TZID=America/Los_Angeles;VALUE=DATE:20200226
DTEND;TZID=America/Los_Angeles;VALUE=DATE:20200227
DTSTAMP:20200226T154307Z
URL:https://stmoside.org/events/ash-wednesday-mass/
SUMMARY:Ash Wednesday Mass
DESCRIPTION:Please join us for the celebration of Ash Wednesday Mass at 8:1
 5am\, 12:00pm\, or 7:00pm.\n\nWe will be having a Soup Supper from 5:30pm-
 7:00pm\, preceding the 7:00pm Mass.\n\nView our full Lenten and Easter Sch
 edule here.
ATTACH;FMTTYPE=image/jpeg:https://stmoside.org/wp-content/uploads/2020/02/
 Ash-Wednesday.png
CATEGORIES:Liturgy
LOCATION:St. Thomas More Catholic Church\, 1450 South Melrose Drive \, Ocea
 nside\, CA\, 92056\, United States
GEO:33.1714536;-117.2506057
X-APPLE-STRUCTURED-LOCATION;VALUE=URI;X-ADDRESS=1450 South Melrose Drive \,
  Oceanside\, CA\, 92056\, United States;X-APPLE-RADIUS=100;X-TITLE=St. Tho
 mas More Catholic Church:geo:33.1714536,-117.2506057
END:VEVENT
BEGIN:VTIMEZONE
TZID:America/Los_Angeles
X-LIC-LOCATION:America/Los_Angeles
BEGIN:STANDARD
DTSTART:20191103T010000
TZOFFSETFROM:-0700
TZOFFSETTO:-0800
TZNAME:PST
END:STANDARD
END:VTIMEZONE
END:VCALENDAR