BEGIN:VCALENDAR
VERSION:2.0
PRODID:-//wp-events-plugin.com//7.2.3.1//EN
TZID:America/Los_Angeles
X-WR-TIMEZONE:America/Los_Angeles
BEGIN:VEVENT
UID:1144@stmoside.org
DTSTART;TZID=America/Los_Angeles:20211028T190000
DTEND;TZID=America/Los_Angeles:20211028T200000
DTSTAMP:20210928T172451Z
URL:https://stmoside.org/events/parish-mission-bread-from-heaven-to-eat/
SUMMARY:Parish Mission: Bread from Heaven to Eat
DESCRIPTION:All parishioners (including our youngest parishioners) are invi
 ted to attend the Bread from Heaven to Eat Parish Mission on Thursday\, O
 ctober 28 and Friday\, October 29 from 7-8pm in the Parish Center.\n\nFor 
 the adults\, Bishop Dolan will join us on Thursday and Fr. Long Nguyen wil
 l lead us on Friday. There will also be adoration and benediction.\n\nFor 
 children in grades 1-8\, a *special* Kids Mission will take place! This wo
 nderful opportunity lets our families fully participate and grow in faith 
 together. Families can drop off their children at 6:50pm and pick them up 
 at 8:10pm. Free child care is also offered for 2-5 year olds!\n\nWe can no
 t wait to celebrate with you!
ATTACH;FMTTYPE=image/jpeg:https://stmoside.org/wp-content/uploads/2021/09/
 Eucharist.jpg
CATEGORIES:Faith Formation
LOCATION:St. Thomas More Catholic Church\, 1450 South Melrose Drive \, Ocea
 nside\, CA\, 92056\, United States
GEO:33.1714536;-117.2506057
X-APPLE-STRUCTURED-LOCATION;VALUE=URI;X-ADDRESS=1450 South Melrose Drive \,
  Oceanside\, CA\, 92056\, United States;X-APPLE-RADIUS=100;X-TITLE=St. Tho
 mas More Catholic Church:geo:33.1714536,-117.2506057
END:VEVENT
BEGIN:VTIMEZONE
TZID:America/Los_Angeles
X-LIC-LOCATION:America/Los_Angeles
BEGIN:DAYLIGHT
DTSTART:20210314T030000
TZOFFSETFROM:-0800
TZOFFSETTO:-0700
TZNAME:PDT
END:DAYLIGHT
END:VTIMEZONE
END:VCALENDAR