BEGIN:VCALENDAR
VERSION:2.0
PRODID:-//wp-events-plugin.com//7.2.3.1//EN
TZID:America/Los_Angeles
X-WR-TIMEZONE:America/Los_Angeles
BEGIN:VEVENT
UID:912@stmoside.org
DTSTART;TZID=America/Los_Angeles:20210607T183000
DTEND;TZID=America/Los_Angeles:20210607T203000
DTSTAMP:20210531T181107Z
URL:https://stmoside.org/events/the-seamless-garment-of-life-a-catholic-ap
 proach-to-the-abortion-issue/
SUMMARY:The Seamless Garment of Life: A Catholic Approach to the Abortion I
 ssue
DESCRIPTION:Join us for a discussion of what it means to be pro-life\, from
  womb to tomb. For this\nmeeting\, the emphasis will be on what our commun
 ity can do to reduce or eliminate\nabortions with Dr. Maureen Day!\n\nDETA
 ILS:\n\n 	Monday\, June 7 at 6:30 pm on the Parish Center Upper Level\n 	P
 lease RSVP to MarthaC@stmoside.org as space is limited\n 	Our Speaker: Dr.
  Maureen Day is the Assistant Professor of Religion and Society at the  F
 ranciscan School of Theology in San Diego\, California and Research Fellow
  at the Center for Applied Research in the Apostolate (CARA) at Georgetown
  University. She is deeply committed to co-creating a more just and compas
 sionate world\, both through her personal and her academic life. Her writt
 en analyses on American Catholic life can be found in both Catholic and ac
 ademic publications\, including her recently released Catholic Activism To
 day: Individual Transformation and the Struggle for Social Justice (NYU Pr
 ess 2020). Maureen was part of the research team for a national study of a
 bortion attitudes\, funded by the McGrath Institute for Church Life\, Univ
 ersity of Notre Dame.\n
ATTACH;FMTTYPE=image/jpeg:https://stmoside.org/wp-content/uploads/2021/05/
 Maureen.jpg
CATEGORIES:Social Justice
LOCATION:Parish Center (Upper Level) at St. Thomas More\, 1450 South Melros
 e Drive\, Oceanside\, CA\, 92056\, United States
GEO:33.1714536;-117.2506057
X-APPLE-STRUCTURED-LOCATION;VALUE=URI;X-ADDRESS=1450 South Melrose Drive\, 
 Oceanside\, CA\, 92056\, United States;X-APPLE-RADIUS=100;X-TITLE=Parish C
 enter (Upper Level) at St. Thomas More:geo:33.1714536,-117.2506057
END:VEVENT
BEGIN:VTIMEZONE
TZID:America/Los_Angeles
X-LIC-LOCATION:America/Los_Angeles
BEGIN:DAYLIGHT
DTSTART:20210314T030000
TZOFFSETFROM:-0800
TZOFFSETTO:-0700
TZNAME:PDT
END:DAYLIGHT
END:VTIMEZONE
END:VCALENDAR